BEGIN:VCALENDAR
VERSION:2.0
PRODID:-//Eventin//Event Calendar//EN
CALSCALE:GREGORIAN
METHOD:PUBLISH
BEGIN:VEVENT
UID:670f96d9298da8394af4b6ca6b897f41@myownabyss.com
SUMMARY:MATERIAFEST XIV
DESCRIPTION:MATERIAFEST XIV - 28-29 SIERPNIA 2026WIEŻA BISMARCKA - SZCZECI
 NEK2 DNIPOLE NAMIOTOWEKONKURS KAPEL\nPrzed nami 14. edycja festiwalu MATERI
 AFEST skierowanego do fanów muzyki metalowej i rockowej. Festiwal odbędzi
 e się pod Wieżą Bismarcka w Szczecinku w dniach 28 - 29 sierpnia 2026 ro
 ku. Dwudniowa impreza odbędzie się w wyjątkowo uroczym zakątku szczecin
 eckiego parku nad Jeziorem Trzesiecko. Tegoroczna odsłona wydarzenia zapew
 ni uczestnikom moc wrażeń podczas koncertów oraz szereg atrakcji w miast
 eczku festiwalowym. W ciągu dwóch dni fani ciężkich brzmień będą mog
 li zobaczyć występy kilkunastu artystów. Na poprzednich edycjach festiwa
 lu wystąpili : Sepultura\, Napalm Death\, Carcass\, Decapitated\, Behemoth
 \, Vader\, Septicflesh\, Caliban\, Humanity’s Last Breath\, Monuments\, R
 iverside\, Illusion i wielu innych. Festiwalowicze mają możliwość skorz
 ystania z pola namiotowego które usytuowane jest nieopodal festiwalu. Dzie
 ci poniżej 12 roku życia wchodzą na festiwal bezpłatnie.\n Materiafest
 https://www.materiafest.comhttps://www.facebook.com/materiafestofficialhttp
 s://instagram.com/materiafestofficial\nTickets / Info:Ticketmaster:https://
 www.ticketmaster.pl/.../materiafest.../1821364485\neBilet:https://www.ebile
 t.pl/muzyka/festiwale/materiafest\n \n Dzieci poniżej 12 roku życia - w
 stęp bezpłatny. Bilety jednodniowe sprzedawane są tylko w opcji bez pola
  namiotowego.\n Pole namiotoweFestiwalowicze mogą skorzystać z pola nami
 otowego za dodatkową opłatą przy zakupie karnetu dwudniowego.
LOCATION:Wieża Bismarcka\, Szczecinek
DTSTAMP:20260419T142817Z
DTSTART:20260829T140000Z
DTEND:20260829T215900Z
END:VEVENT
END:VCALENDAR