BEGIN:VCALENDAR
VERSION:2.0
PRODID:-//Eventin//Event Calendar//EN
CALSCALE:GREGORIAN
METHOD:PUBLISH
BEGIN:VEVENT
UID:99d2dac9999065a81f2b90acab2aa0b0@myownabyss.com
SUMMARY:WIREFALL + MY OWN ABYSS + SNOWBLIND + DEADDUE | LUBLIN
DESCRIPTION:Już wkrótce Wirefall\, SNOWBLIND\, My Own Abyss i Deaddue na 
 jednej scenie!  To będzie wieczór pełen ciężkich riffów\, energii i
  niezapomnianych wrażeń. Jeśli lubisz bezkompromisowe granie — tego wy
 darzenia nie możesz przegapić! \n---------------------------------------
 ------------------------------------\nSNOWBLIND to formacja balansująca na
  krawędzi rocka\, nowoczesnego metalu i alternatywy. Zespół wyróżnia s
 ię żywiołowymi występami oraz szczerymi\, bezkompromisowymi tekstami\, 
 które stały się ich znakiem rozpoznawczym.\nGrupa ma na koncie istotne s
 ukcesy\, w tym tytuł laureata festiwalu Żubrowisko 2025. Ich debiutancki 
 krążek LP „Słaby” (2024) został doceniony przez branżę\, zdobywaj
 ąc nagrodę Albumu Roku.Po świetnie przyjętym debiucie LP „Słaby” (
 2024)\, grupa nie zwalnia tempa.\nWydany pod koniec 2025 roku singiel „W 
 Górę” otworzył nowy\, bardziej dojrzały rozdział w ich historii. Kol
 ejne single – „Jutro” oraz „Ćma” – tylko potwierdziły ewolucj
 ę brzmienia zespołu i są przedsmakiem nadchodzącego\, drugiego albumu d
 ługogrającego\, nad którym muzycy obecnie pracują.\n-------------------
 --------------------------------------------------------\nMy Own Abyss to m
 etalcore’owy zespół z Krakowa\, założony w 2018 roku. Ich dynamiczny 
 rozwój zaowocował występami na prestiżowych europejskich scenach - m.in
 . na Rock For People 2025 (CZ)\, gdzie wystąpili u boku takich gigantów j
 ak Slipknot\, Linkin Park i Avenged Sevenfold\, a także drugim miejscem w 
 konkursie East European Young Talents podczas EERA Festival 2025 w Bukaresz
 cie (RO).\nCzteroosobowy skład wyróżnia się charakterystycznym połącz
 eniem ciężkich\, potężnych breakdownów z melodyjnymi\, chwytliwymi ref
 renami. Zespół konsekwentnie poszerza swoją bazę fanów dzięki intensy
 wnej działalności koncertowej - mając na koncie ponad 100 występów w P
 olsce\, Niemczech\, Czechach\, Słowacji oraz Rumunii - a także poprzez re
 gularne publikowanie nowych wydawnictw. Ich singiel „Taki Sam”\, wydany
  w maju 2025 roku\, przekroczył 205 tysięcy odtworzeń na Spotify oraz 11
 5 tysięcy wyświetleń na YouTube w ciągu dziesięciu miesięcy od premie
 ry.\nKoncerty My Own Abyss to widowiskowe spektakle\, w których muzyka ł
 ączy się z precyzyjnie zsynchronizowaną oprawą świetlną\, tworząc pe
 łne energii i emocji show. Ich występy zostały docenione na licznych pol
 skich i europejskich przeglądach muzycznych\, wśród których warto wyró
 żnić drugie miejsce na EERA Festival (RO)\, finał Planetrox (CZ)\, fina
 ł Wacken Metal Battle Polska oraz finał Pol'and'Rock Festival.
LOCATION:Graffiti\, Lublin
DTSTAMP:20260419T164431Z
DTSTART:20260522T160000Z
DTEND:20260522T215500Z
END:VEVENT
END:VCALENDAR