BEGIN:VCALENDAR
VERSION:2.0
PRODID:-//Eventin//Event Calendar//EN
CALSCALE:GREGORIAN
METHOD:PUBLISH
BEGIN:VEVENT
UID:824889e74239d3b612b1f66fddf0583d@myownabyss.com
SUMMARY:WIREFALL + MY OWN ABYSS + SNOWBLIND | ŁÓDŹ
DESCRIPTION:WIREFALL + MY OWN ABYSS + SNOWBLIND
LOCATION:Wooltura\, Łódź
DTSTAMP:20260419T123504Z
DTSTART:20260530T160000Z
DTEND:20260530T215500Z
END:VEVENT
END:VCALENDAR