BEGIN:VCALENDAR
VERSION:2.0
PRODID:-//Eventin//Event Calendar//EN
CALSCALE:GREGORIAN
METHOD:PUBLISH
BEGIN:VEVENT
UID:f9973f979cd7919be6b15855c286c34b@myownabyss.com
SUMMARY:WIREFALL + MY OWN ABYSS + SNOWBLIND + DEADDUE | BYDGOSZCZ
DESCRIPTION:WIREFALL + MY OWN ABYSS + SNOWBLIND + DEADDUE
LOCATION:Over The Under\, Bydgoszcz
DTSTAMP:20260419T123504Z
DTSTART:20260605T160000Z
DTEND:20260605T215500Z
END:VEVENT
END:VCALENDAR