BEGIN:VCALENDAR
VERSION:2.0
PRODID:-//Eventin//Event Calendar//EN
CALSCALE:GREGORIAN
METHOD:PUBLISH
BEGIN:VEVENT
UID:6915b51d9fb5cc80588b4b88983f8dbd@myownabyss.com
SUMMARY:EMONIGHT KOŠICE
DESCRIPTION: Do Košíc prichádza ďalšia noc plná emo\, metalcoru\, ha
 rdcoru\, pop-punku a alternatívy \n LINE-UP \n MY OWN ABYSS (PL)Modern
 ý metalcore z Krakowa kombinujúci tvrdé breakdowny\, melodické refrény
  a elektronické prvky. Kapela je známa energickými koncertami a metalcor
 e covermi známych popových songov.\n STERCORE (SK)Slovenská metalcore /
  deathcore kapela známa masívnymi riffmi\, brutálnymi breakdownmi a komb
 ináciou rôznych vokálnych štýlov s elektronickými elementmi.\n CYRIS
  (SK)Modern metal / metalcore projekt zo Slovenska založený v roku 2024. 
 Ich hudba spája atmosférickú elektroniku\, heavy riffy a emotívne intro
 spektívne texty o vnútornom boji\, odolnosti a transformácii.\n EMONIGH
 T DJsO párty časť večera sa postarajú naši rezidentní EMONIGHT DJs K
 ajisko a Pan!c Boy\, ktorí vám namixujú tie najväčšie emo bangre\, po
 p-punk hymny\, metalcore breakdowny a alternatívne klasiky. Pripravte sa n
 a set plný songov\, ktoré budete spievať od začiatku do konca.\n tatto
 o show merch zóna\n predpredaj beží cez tootoot.fm\nPrvé early bird 
 lístky sú práve v predaji za 13 €ďalšia vlna bude za 15 €\, ulov s
 i lístok čo najskôr \nEMO IS NOT DEAD
LOCATION:Collosseum Club Košice
DTSTAMP:20260419T123512Z
DTSTART:20260508T160000Z
DTEND:20260508T215500Z
END:VEVENT
END:VCALENDAR