BEGIN:VCALENDAR
VERSION:2.0
PRODID:-//Eventin//Event Calendar//EN
CALSCALE:GREGORIAN
METHOD:PUBLISH
BEGIN:VEVENT
UID:87d9d9dce5f8d54b6bf3c0819fe503f6@myownabyss.com
SUMMARY:ŁOPEN FEST 2026
DESCRIPTION:ŁOPEN FEST 2026Wracamy do Was z kolejną odsłoną Łopen Fe
 st na 2026 rok.Zapraszamy we wrześniu w okolice pięknych jezior. Koncert
 y w piątek i sobotę\, niedziela "na dogorywanie"\, integrację i
  chill.PIĄTEK:Hiob Dylan\, Sandały Mariana\, Koniec Listopada\, Pracowni
 a 06\, Koniec Świata\, Transgresja\, GA-GA Zielone ŻabkiSOBOTA:Meteroids\
 , dr fleischman\, Punched Orange\, My Own Abyss\, Miyasis\, Hamule
 c\, Wielkie Ilości Piorunów na RazPole namiotowe z podstawową infra
 strukturą sanitarną oraz parking w cenie karnetów/biletów.Strefy gastr
 onomiczne\, strefa z piwkiem (również 0%)\, stoiska z rękodziełem\, war
 sztaty\, animacje dla dzieci\, ognisko na wspólne biesiadowanie przy muzyc
 e\, punkt medyczny. Na polu namiotowym dbamy o bezpieczeństwo swoje
  i innych\, prosimy nie wnosić szkła na teren imprezy. Wspólni
 e zadbajmy o udostępniony kawałek ziemi. Można zabierać swój 
 prowiant\, wszystko czego potrzebujecie na polu namiotowym\, ale pr
 osimy o zachowanie porządku na przestrzeni całego Festu.ORGANIZATO
 R: FUNDACJA BO LICZĄ SIĘ LUDZIE
LOCATION:Wijewo
DTSTAMP:20260419T123636Z
DTSTART:20260905T140000Z
DTEND:20260905T215500Z
END:VEVENT
END:VCALENDAR