BEGIN:VCALENDAR
VERSION:2.0
PRODID:-//Eventin//Event Calendar//EN
CALSCALE:GREGORIAN
METHOD:PUBLISH
BEGIN:VEVENT
UID:3d6edd1dcb8479da2e4c62161e22f9e8@myownabyss.com
SUMMARY:WIOSNA 2026 - MY OWN ABYSS + GOŚCIE | LEGNICA
DESCRIPTION:My Own Abyss to jeden z najbardziej rozpoznawalnych zespołów 
 polskiej sceny metalcore. Ich dynamiczny rozwój zaowocował występami na 
 prestiżowych europejskich scenach - m.in. na Rock For People 2025 (CZ)\, g
 dzie wystąpili u boku takich gigantów jak Slipknot\, Linkin Park i Avenge
 d Sevenfold\, a także drugim miejscem w konkursie East European Young Tale
 nts podczas EERA Festival 2025 w Bukareszcie (RO). Ich koncerty to widowisk
 owe spektakle\, w których muzyka łączy się z precyzyjnie zsynchronizowa
 ną oprawą świetlną\, tworząc pełne energii i emocji show. Jeżeli jes
 teś fanem Linkin Park\, Bring Me The Horizon lub Bad Omens\, to zdecydowan
 ie ten koncert jest dla Ciebie!
LOCATION:Spiżarnia\, Legnica
DTSTAMP:20260419T123512Z
DTSTART:20260606T160000Z
DTEND:20260606T215500Z
END:VEVENT
END:VCALENDAR